BEGIN:VCALENDAR
VERSION:2.0
PRODID:-//Innovative Manufacturers Center - ECPv6.15.18//NONSGML v1.0//EN
CALSCALE:GREGORIAN
METHOD:PUBLISH
X-ORIGINAL-URL:https://imcpa.com
X-WR-CALDESC:Events for Innovative Manufacturers Center
REFRESH-INTERVAL;VALUE=DURATION:PT1H
X-Robots-Tag:noindex
X-PUBLISHED-TTL:PT1H
BEGIN:VTIMEZONE
TZID:America/New_York
BEGIN:DAYLIGHT
TZOFFSETFROM:-0500
TZOFFSETTO:-0400
TZNAME:EDT
DTSTART:20250309T070000
END:DAYLIGHT
BEGIN:STANDARD
TZOFFSETFROM:-0400
TZOFFSETTO:-0500
TZNAME:EST
DTSTART:20251102T060000
END:STANDARD
BEGIN:DAYLIGHT
TZOFFSETFROM:-0500
TZOFFSETTO:-0400
TZNAME:EDT
DTSTART:20260308T070000
END:DAYLIGHT
BEGIN:STANDARD
TZOFFSETFROM:-0400
TZOFFSETTO:-0500
TZNAME:EST
DTSTART:20261101T060000
END:STANDARD
BEGIN:DAYLIGHT
TZOFFSETFROM:-0500
TZOFFSETTO:-0400
TZNAME:EDT
DTSTART:20270314T070000
END:DAYLIGHT
BEGIN:STANDARD
TZOFFSETFROM:-0400
TZOFFSETTO:-0500
TZNAME:EST
DTSTART:20271107T060000
END:STANDARD
END:VTIMEZONE
BEGIN:VEVENT
DTSTART;TZID=America/New_York:20260205T090000
DTEND;TZID=America/New_York:20260205T120000
DTSTAMP:20260421T105630
CREATED:20241202T204509Z
LAST-MODIFIED:20260202T143144Z
UID:24595-1770282000-1770292800@imcpa.com
SUMMARY:Strategic Succession Planning for Supervisors
DESCRIPTION:Strategic Succession Planning for Supervisors\n(3-hour\, in-person)\nThis program has been postponed. \nClick for our February 12th opportunity in Altoona\, PA!\nEffective succession planning is crucial for sustaining leadership and ensuring organizational continuity. This three-hour workshop equips supervisors with the tools and insights needed to identify and develop their successors. Participants will address common psychological challenges\, explore strategies for evaluating potential candidates and create a strategic roadmap for succession. Join us to ensure a seamless transition and secure the future of your leadership role. \nRegister now for only $189 per person!\nRegister \nLearning Objectives:\n\nIdentify and overcome psychological barriers in succession planning.\nEvaluate internal and external candidates based on experience\, education and potential.\nDevelop a strategic succession plan with a clear timeline and actionable steps.\n\nCourse Outline:\n\nIntroduction\nPsychological Challenges in Succession Planning\n\nAddressing Fears\nFostering a Growth Mindset\nWorkplace History and Professional Objectivity\n\n\nEvaluating Potential Successors\n\nAnalyzing Experience and Education\nInternal vs External Candidates\nAssessing Potential\, Growth and Fit\n\n\nDeveloping a Strategic Succession Plan\n\nKey Components and Best Practices\nAssessing and Setting Timelines and Milestones\nEstablishing Feedback and Continued Development Pathways\n\n\nAdditional Resources and Next Steps\nClosing Comments and Q&A\n\nStrategic Succession Planning for Supervisors Outline \nWho Should Attend:\nThis program is ideal for individuals who play key roles in supervisory\, management and HR functions. Particularly\, Supervisors and Team Leaders\, Middle and Senior Managers\, HR Representatives\, Plant or Operations Managers and Continuous Improvement/Training Coordinators \nRegister now for only $189 per person!\nRegister \nMeet Your Presenter:\nDennis Gilbert is President of the IMC. His professional experience includes General Manager of a local manufacturing and retail operation\, Managing Director of Workforce Development & Continuing Education at Penn College\, and just prior to joining IMC in 2021\, President/Owner of Appreciative Strategies\, LLC. Dennis has extensive experience in manufacturing\, leadership\, non-profit management\, and developing strategic marketing initiatives using social media platforms. \nDennis obtained his master’s degree from Pennsylvania State University in Workforce Education & Development\, his bachelor’s degree from Pennsylvania College of Technology in Technology Management and an Associate degree in Computer Science from Williamsport Area Community College. \nCheck out our blog! Do You Need Succession Planning and Management? | IMC \nThis program may be WEDnetPA eligible! \n 
URL:https://imcpa.com/event/ssp-wmspt/
LOCATION:IMC\, 1127 W. 4th St.\, Williamsport\, PA\, 17701\, United States
CATEGORIES:IMC Events,Webinars
ATTACH;FMTTYPE=image/jpeg:https://imcpa.com/wp-content/uploads/2024/12/Succession-Planning.jpg
ORGANIZER;CN="IMC":MAILTO:info@imcpa.com
END:VEVENT
BEGIN:VEVENT
DTSTART;TZID=America/New_York:20260212T090000
DTEND;TZID=America/New_York:20260212T120000
DTSTAMP:20260421T105630
CREATED:20241203T212839Z
LAST-MODIFIED:20251212T132738Z
UID:24606-1770886800-1770897600@imcpa.com
SUMMARY:Strategic Succession Planning for Supervisors
DESCRIPTION:Strategic Succession Planning for Supervisors\n(3-hour\, in-person\, Altoona)\nThis program starts in: \n\n\n\n\n\n\n\n  \nEffective succession planning is crucial for sustaining leadership and ensuring organizational continuity. This three-hour workshop equips supervisors with the tools and insights needed to identify and develop their successors. Participants will address common psychological challenges\, explore strategies for evaluating potential candidates and create a strategic roadmap for succession. Join us to ensure a seamless transition and secure the future of your leadership role. \nRegister now for only $189 per person!\nRegister \nLearning Objectives:\n\nIdentify and overcome psychological barriers in succession planning.\nEvaluate internal and external candidates based on experience\, education and potential.\nDevelop a strategic succession plan with a clear timeline and actionable steps.\n\nCourse Outline:\n\nIntroduction\nPsychological Challenges in Succession Planning\n\nAddressing Fears\nFostering a Growth Mindset\nWorkplace History and Professional Objectivity\n\n\nEvaluating Potential Successors\n\nAnalyzing Experience and Education\nInternal vs External Candidates\nAssessing Potential\, Growth and Fit\n\n\nDeveloping a Strategic Succession Plan\n\nKey Components and Best Practices\nAssessing and Setting Timelines and Milestones\nEstablishing Feedback and Continued Development Pathways\n\n\nAdditional Resources and Next Steps\nClosing Comments and Q&A\n\nStrategic Succession Planning for Supervisors Outline \nWho Should Attend:\nThis program is ideal for individuals who play key roles in supervisory\, management and HR functions. Particularly\, Supervisors and Team Leaders\, Middle and Senior Managers\, HR Representatives\, Plant or Operations Managers and Continuous Improvement/Training Coordinators \nRegister now for only $189 per person!\nRegister \nMeet Your Presenter:\nDennis Gilbert is President of the IMC. His professional experience includes General Manager of a local manufacturing and retail operation\, Managing Director of Workforce Development & Continuing Education at Penn College\, and just prior to joining IMC in 2021\, President/Owner of Appreciative Strategies\, LLC. Dennis has extensive experience in manufacturing\, leadership\, non-profit management\, and developing strategic marketing initiatives using social media platforms. \nDennis obtained his master’s degree from Pennsylvania State University in Workforce Education & Development\, his bachelor’s degree from Pennsylvania College of Technology in Technology Management and an Associate degree in Computer Science from Williamsport Area Community College. \nCheck out our blog! Do You Need Succession Planning and Management? | IMC \nThis program is WEDnetPA eligible.
URL:https://imcpa.com/event/ssp-altoona/
LOCATION:St. Francis Curry Innovation Center\, 1425 11th Avenue\, Altoona\, PA\, 16601\, United States
CATEGORIES:IMC Events
ATTACH;FMTTYPE=image/jpeg:https://imcpa.com/wp-content/uploads/2024/05/106351887-teamwork-professional-engineer-scaled.jpeg
ORGANIZER;CN="IMC":MAILTO:info@imcpa.com
END:VEVENT
BEGIN:VEVENT
DTSTART;TZID=America/New_York:20260217T083000
DTEND;TZID=America/New_York:20260217T153000
DTSTAMP:20260421T105630
CREATED:20131010T200256Z
LAST-MODIFIED:20260213T192855Z
UID:4180-1771317000-1771342200@imcpa.com
SUMMARY:Lean Manufacturing Level One Practitioner Certification - Centre County
DESCRIPTION:Lean Manufacturing Level One Practitioner Certification\n(7 session\, in-person program held in Centre County\, PA)\nThis program starts in: \n\n\n\n\n\n\n\nBecome the Lean Leader Your Team Deserves\nReady to stop talking about Lean and start leading it? The Lean Manufacturing Level 1 Practitioner Certificate is IMC’s powerhouse\, hands-on training program built for doers—not just dreamers. Across seven high-impact sessions from February 17 through May 19\, you’ll learn to eliminate waste\, boost performance\, and deliver real results where it matters most: on the floor. \nThis isn’t just training. It’s transformation—with a credential to prove it. \nSeats are Limited – Secure Yours Now for Only $1\,995!\nRegister \nWhy This Program Works\n\nReal Tools\, Real Results – Go beyond buzzwords with A3 Thinking\, Value Stream Mapping\, SMED\, 5S\, and more—then use them immediately back at your plant.\nCoached to Succeed – Certified Lean experts work with you one-on-one to guide your improvement project and make sure it delivers measurable gains.\nRespected Certification – Earn your Lean Manufacturing Practitioner Certificate and show leadership you’re ready to drive continuous improvement.\nCollaborate & Compete – Learn alongside peers from across the region\, swap ideas\, and push each other to raise the bar.\n\nWho Should Register\n\nFront-line supervisors\, team leaders\, and shift coordinators\nQuality\, engineering\, and continuous improvement professionals\nAnyone serious about unlocking Lean results on the shop floor\n\nGet Ready to\n\nLead change and guide teams through high-impact\, high-energy projects that produce exceptional results—impressing managers and increasing your contribution value to the business.\nStreamline your operations by identifying bottlenecks\, eliminating waste\, and transforming chaos into clarity—fast-tracking improvements leadership can see and measure.\nCommunicate like a Lean expert by confidently using data\, visuals\, and proven methods that get people aligned\, engaged\, and taking action.\nElevate your professional reputation by becoming the person who doesn’t just understand Lean—but delivers it\, owns it\, and drives it forward.\n\nClick here for Lean Manufacturing Level One Practitioner Certification Flyer. \nRegister \nYour Certification Journey\nThis seven-session program has the following topical sessions: \n\nA3 Thinking & Team Communication – February 17\nValue Stream Mapping & Gemba Walks – March 3\nRoot Cause Analysis & 5S – March 17\nSMED (Quick Changeover) & Visual Controls – April 7\nOnsite Gemba & Project Coaching – April 21\nStandard Work\, Project Updates & Capstone Simulation – May 5\nFinal Project Report-out & Celebration – May 19\n\nClick here for session day details. \nWhere\nAll sessions will be held at the Technology Center in University Park\, PA (Centre County) with the exception of April 21\, which will be held at an IMC manufacturing client’s facility. \nInstructor\nNico de Sousa Serro\, Lean/Continuous Improvement Expert \nNico is a Lean/Continuous Improvement content expert at an IMC sister-center where he is responsible for facilitating organizational continuous improvement efforts\, implementation of Lean methodologies\, and creating Lean/CI content. This involves developing onsite collaborative solutions and training\, as well as conducting training and education courses. Nico has extensive experience in process improvement and Lean philosophy implementation\, having driven many initiatives on manufacturing plant floor settings. Nico served as the Continuous Improvement Manager at Chelten House Products and held various roles within quality\, production\, and warehousing at the Pepsi Bottling Group. Nico championed several Six Sigma and Total Productive Maintenance (TPM) initiatives\, in addition to maintaining ISO 22000 plant quality standards. Nico holds a bachelor’s degree in business with dual concentrations in Operations and Supply Chain Management and Economics from Drexel University’s LeBow College of Business. Nico also holds a Green Belt Six Sigma certification from Vilanova University. \n \nThis training qualifies for WEDnetPA funding for qualified participants. Not familiar with WEDnetPA funding\, contact IMC at info@imcpa.com or (800) 326-9467.
URL:https://imcpa.com/event/lml1pc-centre/
LOCATION:Innovation Park at Penn State\, 200 Technology Center\, University Park\, PA\, 16802\, United States
CATEGORIES:IMC Events
ATTACH;FMTTYPE=image/jpeg:https://imcpa.com/wp-content/uploads/2018/02/106437226-lean-six-sigma-quality-control-scaled-e1727901780647.jpeg
ORGANIZER;CN="IMC":MAILTO:info@imcpa.com
END:VEVENT
BEGIN:VEVENT
DTSTART;TZID=America/New_York:20260218T080000
DTEND;TZID=America/New_York:20260220T160000
DTSTAMP:20260421T105631
CREATED:20251002T193905Z
LAST-MODIFIED:20260213T192837Z
UID:31468-1771401600-1771603200@imcpa.com
SUMMARY:Manufacturing Excellence: Mastering Equipment Troubleshooting
DESCRIPTION:Mastering Equipment Troubleshooting\n(3-day\, in-person)\nThis program starts in: \n\n\n\n\n\n\n\n  \nThis intensive\, interactive program provides participants with skills\, methods\, and confidence to systematically identify\, diagnose\, and resolve equipment problems. Using real-world examples and shop-floor exercises\, the training builds troubleshooting capability that minimizes downtime\, improves equipment reliability\, and increases productivity. \nRegister now for only $1\,295 per person!\nRegister \nLearning Objectives\nBy the end of the training\, participants will be able to: \n\nApply a structured troubleshooting methodology to equipment issues.\nIdentify root causes of mechanical\, electrical\, pneumatic\, and hydraulic problems.\nUse diagnostic tools and job aids effectively.\nDocument and communicate troubleshooting steps and outcomes.\nStrengthen cross-functional teamwork between operators\, maintenance\, and engineering.\nReduce unplanned downtime through proactive problem-solving.\n\nCourse Outline\nDay 1 – Foundations of Troubleshooting \n\n Introduction to Equipment Troubleshooting\n\nPurpose and benefits of structured troubleshooting\nLink to TPM\, OEE\, and reliability goals\n\n\nSystematic Troubleshooting Process\n\nDefine the problem clearly\nSafety considerations before troubleshooting\nUnderstanding sequences of operations\nIsolating vs. identifying root cause\n\n\nTools and Techniques Overview\n\nVisual inspection\, sensory checks\nUse of checklists\, logs\, and job aids\nCommunication between operators and technicians\n\n\nTroubleshooting Workshop 1\n\nBasic troubleshooting exercises (mechanical focus)\n\n\n\nDay 2 – Diagnostic Skills Development \n\nMechanical Systems Troubleshooting\n\nCommon failure modes (bearings\, belts\, gears\, lubrication issues)\nCase study and interactive exercise\n\n\nElectrical Systems Troubleshooting\n\nBasics of electrical safety and lockout/tagout (LOTO)\nCommon electrical faults (circuits\, fuses\, sensors\, wiring)\nFundamental electrical testing procedures\n\n\nPneumatic & Hydraulic Systems\n\nRecognizing leaks\, pressure losses\, and actuator failures\nPractical lab exercise with simulated faults\n\n\nTeam-Based Problem-Solving Exercise\n\nGroup challenge troubleshooting simulations\n\n\n\nDay 3 – Application and Continuous Improvement \n\nRoot Cause Analysis in Troubleshooting\n\n5 Whys\, fishbone diagrams\, and fault tree analysis\nDocumenting findings for prevention\n\n\nIntegrating Troubleshooting into TPM\n\nOperator involvement and autonomous maintenance\nStandardizing troubleshooting steps and checklists\n\n\nTroubleshooting Workshop 2\n\nBasic troubleshooting scenarios (electrical focus)\n\n\nMeasuring Success\n\nLinking troubleshooting performance to OEE and downtime metrics\nEstablishing KPIs for ongoing improvement\n\n\nAction Planning & Closing Discussion\n\nParticipant action steps for applying skills on the job\nQ&A\, lessons learned\, and next steps\n\n\n\nRegister now for only $1\,295 per person!\nRegister \nWho Should Attend\nThis program is ideal for machine operators\, technicians\, maintenance staff\, supervisors\, and engineers. \nMeet Your Instructor\n\nLarry Bouvier\, CRL\, CMRP\nVice President\, Fuss & O’Neill Manufacturing Solutions\, LLC \nLarry Bouvier is a dynamic and hands-on leader in plant engineering and maintenance with over 14 years as Vice President at Fuss & O’Neill Manufacturing Solutions. With certifications in reliability (CRL) and maintenance (CMRP)\, Larry brings decades of experience mentoring and training manufacturers to improve workplace safety\, asset performance\, and operational excellence. He specializes in world-class asset management\, TPM\, RCM\, CMMS implementation\, and maintenance optimization. Through his practical\, shop-floor approach\, Larry helps clients build sustainable culture change and long-term value across their operations. \n  \nThis program is WEDnetPA eligible.
URL:https://imcpa.com/event/equip-troubleshooting/
LOCATION:Penn College Campus Center\, One College Avenue\, Williamsport\, PA
CATEGORIES:IMC Events
ATTACH;FMTTYPE=image/jpeg:https://imcpa.com/wp-content/uploads/2025/04/302271859-expert-technician-conducts-mai-scaled.jpeg
ORGANIZER;CN="IMC":MAILTO:info@imcpa.com
END:VEVENT
BEGIN:VEVENT
DTSTART;TZID=America/New_York:20260218T083000
DTEND;TZID=America/New_York:20260218T153000
DTSTAMP:20260421T105631
CREATED:20180214T170034Z
LAST-MODIFIED:20260217T203624Z
UID:4842-1771403400-1771428600@imcpa.com
SUMMARY:Lean Manufacturing Level One Practitioner Certification - Lycoming County
DESCRIPTION:Lean Manufacturing Level One Practitioner Certification\n(7 session\, in-person program held in Lycoming County\, PA)\nThis program starts in: \n\n\n\n\n\n\n\nBecome the Lean Leader Your Team Deserves\nReady to stop talking about Lean and start leading it?\nThe Lean Manufacturing Level 1 Practitioner Certificate is IMC’s powerhouse; hands-on training program built for doers—not just dreamers. Across seven high-impact sessions from February 18 through May 20\, you’ll learn to eliminate waste\, boost performance\, and deliver real results where it matters most: on the floor. \nThis isn’t just training. It’s transformation—with a credential to prove it. \nSeats are Limited – Secure Yours Now for Only $1\,995!\nRegister \nWhy This Program Works\n\nReal Tools\, Real Results – Go beyond buzzwords with A3 Thinking\, Value Stream Mapping\, SMED\, 5S\, and more—then use them immediately back at your plant.\nCoached to Succeed – Certified Lean experts work with you one-on-one to guide your improvement project and make sure it delivers measurable gains.\nRespected Certification – Earn your Lean Manufacturing Practitioner Certificate and show leadership you’re ready to drive continuous improvement.\nCollaborate & Compete – Learn alongside peers from across the region\, swap ideas\, and push each other to raise the bar.\n\nWho Should Register\n\nFront-line supervisors\, team leaders\, and shift coordinators\nQuality\, engineering\, and continuous improvement professionals\nAnyone serious about unlocking Lean results on the shop floor\n\nGet Ready to\n\nLead change and guide teams through high-impact\, high-energy projects that produce exceptional results—impressing managers and increasing your contribution value to the business.\nStreamline your operations by identifying bottlenecks\, eliminating waste\, and transforming chaos into clarity—fast-tracking improvements leadership can see and measure.\nCommunicate like a Lean expert by confidently using data\, visuals\, and proven methods that get people aligned\, engaged\, and taking action.\nElevate your professional reputation by becoming the person who doesn’t just understand Lean—but delivers it\, owns it\, and drives it forward.\n\nClick here for Lean Manufacturing Level One Practitioner Certification Flyer. \nRegister \nYour Certification Journey\nThis seven-session program has the following topical sessions: \n\nA3 Thinking & Team Communication – February 18\nValue Stream Mapping & Gemba Walks – March 4\nRoot Cause Analysis & 5S – March 18\nSMED (Quick Changeover) & Visual Controls – April 8\nOnsite Gemba & Project Coaching – April 22\nStandard Work\, Project Updates & Capstone Simulation – May 6\nFinal Project Report-out & Celebration – May 20\n\nClick here for session day details. \nWhere\nAll sessions will be held at the IMC’s offices located at 1127 W. 4th Street\, Williamsport\, with the exception of April 22\, which will be held at an IMC manufacturing client’s facility. \nInstructor\nNico de Sousa Serro\, Lean/Continuous Improvement Expert \nNico is a Lean/Continuous Improvement content expert at an IMC sister-center where he is responsible for facilitating organizational continuous improvement efforts\, implementation of Lean methodologies\, and creating Lean/CI content. This involves developing onsite collaborative solutions and training\, as well as conducting training and education courses. Nico has extensive experience in process improvement and Lean philosophy implementation\, having driven many initiatives on manufacturing plant floor settings. Nico served as the Continuous Improvement Manager at Chelten House Products and held various roles within quality\, production\, and warehousing at the Pepsi Bottling Group. Nico championed several Six Sigma and Total Productive Maintenance (TPM) initiatives\, in addition to maintaining ISO 22000 plant quality standards. Nico holds a bachelor’s degree in business with dual concentrations in Operations and Supply Chain Management and Economics from Drexel University’s LeBow College of Business. Nico also holds a Green Belt Six Sigma certification from Vilanova University. \n \nThis training qualifies for WEDnetPA funding for qualified participants. Not familiar with WEDnetPA funding\, contact IMC at info@imcpa.com or (800) 326-9467.
URL:https://imcpa.com/event/lml1pc-lyco/
LOCATION:IMC\, 1127 W. 4th St.\, Williamsport\, PA\, 17701\, United States
CATEGORIES:IMC Events
ATTACH;FMTTYPE=image/jpeg:https://imcpa.com/wp-content/uploads/2018/02/106437226-lean-six-sigma-quality-control-scaled-e1727901780647.jpeg
ORGANIZER;CN="IMC":MAILTO:info@imcpa.com
END:VEVENT
BEGIN:VEVENT
DTSTART;TZID=America/New_York:20260224T083000
DTEND;TZID=America/New_York:20260225T160000
DTSTAMP:20260421T105631
CREATED:20210225T201123Z
LAST-MODIFIED:20251211T142907Z
UID:7667-1771921800-1772035200@imcpa.com
SUMMARY:ISO 9001:2015 Internal Auditor Training
DESCRIPTION:ISO 9001:2015 Internal Auditor Training\n(2-day\, virtual)\nThis program starts in: \n\n\n\n\n\n\n\n\nWhat is ISO 9001:2015 Internal Auditor Training?\nISO 9001:2015 Internal Auditor Training is a program designed to train individuals on how to conduct internal audits of a quality management system (QMS) based on the ISO 9001:2015 standard. ISO 9001:2015 is an international standard that specifies requirements for a QMS\, helping organizations ensure they consistently provide products and services that meet customer and regulatory requirements. \nIMC’s Internal Auditor Training is designed to train participants to become qualified and confident to conduct internal audits of ISO 9001:2015 Quality Management Systems in a positive\, constructive approach consistent with the objectives of your company’s management system. \nRegister now for only $595 per person!\nRegister \nRegistration for webinars is per individual and the Zoom link provided is intended for the registered participant only. Zoom Link will be provided approximately one week prior to program start.\nTraining Topics:\n\nUnderstanding ISO 9001:2015\nAudit Fundamentals\nAudit Planning and Preparation\nConducting the Audit\nReporting and Follow-up\nPractical Exercises and Case Studies\nCertification and Competency\n\nWhy Attend IAT\n\nImproved Auditing Skills: Enhances the ability to perform thorough and effective internal audits.\nCompliance Assurance: Ensures that the organization complies with ISO 9001:2015 requirements.\nContinuous Improvement: Supports a culture of continuous improvement within the organization.\nCareer Development: Provides skills and qualifications that are valuable for career advancement in quality management and auditing roles.\n\nWho Should Attend IAT\nQuality Managers\, Quality Assurance Professionals\, Internal Auditors\, Process Owners and Managers\, Compliance Officers\, anyone involved in Quality Management\, anyone seeking to become an ISO 9001:2015 Internal Auditor \nWhen:\n\nFebruary 24\, 2026\nFebruary 25\, 2026\n\nProgram is 8:30 a.m. – 4:00 p.m. with a 30-minute lunch break allotted. Login information for the training will be provided prior to the start date. Participants will be required to keep their cameras on throughout the training. \nMeet Your Presenter\n \nMartin Ziegler is a Partner of The Bonney Ziegler Group. Martin has over 20 years of experience in food safety\, quality\, management systems and process improvement practices. He is dedicated to his work and a natural at guiding\, training and engaging companies through the implementation process of quality and food safety management systems. Martin is passionate about achieving success for his client with a track record that gains him customer loyalty. He looks at each project as a customized solution to meet near-term needs while accommodating for longer-term process improvements and sustainability. \nMartin’s Certifications and Expertise: ISO 9001:2015 Lead Auditor\, SQF – Safe Quality Food\, FSSC/ISO 22000 Lead Auditor\, IFS – International Food Standard Lead Auditor\, BRC – British Retail Consortium Lead Auditor\, ISO 13485\, AS 9100\, IATF 16949:2016 Lead Auditor\, IATF 16949:2016 AIAG certified 2nd party Auditor\, ISO 14001:2015 Lead Auditor\, FSPCA Preventive Controls for Human Food – PCQI – Lead Instructor\, FSPCA Foreign Supplier Verification Programs – FSVP – Lead Instructor\, ServSafe ® registered Instructor and ServSafe ® registered Proctor \nRegister now for only $595 per person!\nRegister \nLogin information will be provided approximately one week prior to event start.\nThis program is WEDnetPA eligible.
URL:https://imcpa.com/event/iso-90012015-internal-auditor-training/
LOCATION:Virtual
CATEGORIES:IMC Events,Webinars
ATTACH;FMTTYPE=image/jpeg:https://imcpa.com/wp-content/uploads/2021/02/166550682-iso-9001-standards-quality-con-scaled.jpeg
ORGANIZER;CN="IMC":MAILTO:info@imcpa.com
END:VEVENT
END:VCALENDAR