BEGIN:VCALENDAR
VERSION:2.0
PRODID:-//Innovative Manufacturers Center - ECPv6.15.18//NONSGML v1.0//EN
CALSCALE:GREGORIAN
METHOD:PUBLISH
X-ORIGINAL-URL:https://imcpa.com
X-WR-CALDESC:Events for Innovative Manufacturers Center
REFRESH-INTERVAL;VALUE=DURATION:PT1H
X-Robots-Tag:noindex
X-PUBLISHED-TTL:PT1H
BEGIN:VTIMEZONE
TZID:America/New_York
BEGIN:DAYLIGHT
TZOFFSETFROM:-0500
TZOFFSETTO:-0400
TZNAME:EDT
DTSTART:20250309T070000
END:DAYLIGHT
BEGIN:STANDARD
TZOFFSETFROM:-0400
TZOFFSETTO:-0500
TZNAME:EST
DTSTART:20251102T060000
END:STANDARD
BEGIN:DAYLIGHT
TZOFFSETFROM:-0500
TZOFFSETTO:-0400
TZNAME:EDT
DTSTART:20260308T070000
END:DAYLIGHT
BEGIN:STANDARD
TZOFFSETFROM:-0400
TZOFFSETTO:-0500
TZNAME:EST
DTSTART:20261101T060000
END:STANDARD
BEGIN:DAYLIGHT
TZOFFSETFROM:-0500
TZOFFSETTO:-0400
TZNAME:EDT
DTSTART:20270314T070000
END:DAYLIGHT
BEGIN:STANDARD
TZOFFSETFROM:-0400
TZOFFSETTO:-0500
TZNAME:EST
DTSTART:20271107T060000
END:STANDARD
END:VTIMEZONE
BEGIN:VEVENT
DTSTART;TZID=America/New_York:20260611T090000
DTEND;TZID=America/New_York:20260611T120000
DTSTAMP:20260421T133949
CREATED:20251203T163541Z
LAST-MODIFIED:20260327T181246Z
UID:35755-1781168400-1781179200@imcpa.com
SUMMARY:How to Give Effective Performance Reviews
DESCRIPTION:How to Give Effective Performance Reviews\n(3-Hr\, in-person\, Altoona\, PA)\n\n\n\n\n\n\n\n  \nPerformance reviews shouldn’t feel like a dreaded annual chore—they’re a powerful opportunity to grow your people\, strengthen your team\, and drive productivity. In this high-energy\, 3-hour program\, manufacturing supervisors will learn how to turn evaluations into a practical\, motivating\, and results-oriented process that builds trust\, boosts performance\, and aligns individual goals with organizational success. \nRegister now for only $189!\nRegister \nGoals\nBy the end of this training\, you will: \n\nSee the Big Picture – Understand the true value and purpose of performance reviews beyond compliance.\nDiscover Best Practices – Learn proven strategies for conducting evaluations that inspire improvement.\nBuild Feedback Confidence – Deliver constructive feedback that motivates—even in difficult situations.\nCreate Development Momentum – Help employees move forward with clear\, actionable goals.\n\nWhy Attend\nPerformance reviews can be stressful for both supervisors and employees—but they don’t have to be. This program gives you the tools\, confidence\, and structure to make the process smoother\, more impactful\, and more collaborative. \nYou’ll leave ready to: \n\nHandle difficult conversations\nDocument performance effectively for compliance and clarity\nFoster a culture of continuous improvement\nStrengthen employee relationships and engagement\n\nWho Should Attend\nThis program is perfect for: Manufacturing supervisors and managers responsible for team performance\, new leaders looking to develop effective evaluation skills\, HR professionals supporting supervisor training initiatives\, anyone seeking to make performance reviews a constructive\, growth-focused experience. \nWhat You’ll Take Back to Work\n\nA clear framework for preparing\, delivering\, and following up on reviews\nTools for identifying KPIs\, setting goals\, and linking performance to business outcomes\nPractical strategies for delivering feedback that sticks—and inspires change\nConfidence in handling challenging review conversations\nAn approach to documenting performance and protecting confidentiality\n\nOutline – Navigating Performance Review for Manufacturing Supervisors \nRegister now for only $189!\nRegister \nMeet Your Presenter:\n \nInstruction provided by IMC Business Advisor Tim Davis. Tim has over 35 years of management and operational experience in manufacturing businesses in Central and Southwestern PA. Various career roles include Operations Manager\, Safety Manager\, HR Manager\, Sales Manager\, Sales Rep\, Service Manager\, executive/business coach and trainer. His areas of expertise include employee development\, strategic planning\, people skills\, effective communication\, leadership\, safety\, time management\, sales and customer service. \n  \nThis training qualifies for WEDnetPA funding for qualified participants. Not familiar with WEDnetPA funding\, Contact Us | info@imcpa.com | (570) 329-3200.
URL:https://imcpa.com/event/epr-spring-altoona/
LOCATION:St. Francis Curry Innovation Center\, 1425 11th Avenue\, Altoona\, PA\, 16601\, United States
CATEGORIES:IMC Events
ATTACH;FMTTYPE=image/jpeg:https://imcpa.com/wp-content/uploads/2025/05/Website-236450607-female-hiring-manager-intervie-scaled.jpeg
ORGANIZER;CN="IMC":MAILTO:info@imcpa.com
END:VEVENT
BEGIN:VEVENT
DTSTART;TZID=America/New_York:20260915T090000
DTEND;TZID=America/New_York:20260915T103000
DTSTAMP:20260421T133949
CREATED:20241024T144118Z
LAST-MODIFIED:20260327T160147Z
UID:23077-1789462800-1789468200@imcpa.com
SUMMARY:Using Artificial Intelligence to Support Human Resources
DESCRIPTION:Using Artificial Intelligence to Support Human Resources\nFour 90-minute Virtual Sessions\nThis program starts in: \n\n\n\n\n\n\n\n  \nIn the rapidly evolving landscape of human resources\, artificial intelligence (AI) is emerging as a transformative force. HR practitioners must be aware of how AI can enhance HR practices to stay competitive\, improve efficiency\, and create a more engaged and satisfied workforce. This 4-session program explores the significance of AI in HR. AI can increase efficiency and productivity of HR operations to improve candidate experience and provide data-driven insights into decision-making and personalize employee development. \nIn this engaging program\, we will: \n\nAnalyze job roles effectively using AI tools and explore how AI enhances recruitment processes\, improving communication and candidate experience in talent acquisition.\nIdentify best practices in onboarding and employee engagement\, utilizing AI technologies to automate processes and foster a more engaging workplace environment.\nExamine the role of AI in supporting employee relations and learning & development initiatives\, focusing on strategies to improve retention and training outcomes.\nAssess the importance of HR analytics and compliance\, exploring how AI can enhance data-driven decision-making and ensure adherence to regulatory standards within HR functions.\n\nDon’t miss this opportunity to learn from one of the top thought leaders in the field.\nJoin us for only $309 to unlock the power of AI in HR\nRegister \nWebinar login will be provided approximately one week prior to each session.\nSessions:\nThis free webinar is an introduction to this follow-up four-part series. Register for all four for only $309! \n\nSeptember 15\, 2026 – Using Artificial Intelligence to Support Job Descriptions\, Recruiting\, and Workforce Planning\nSeptember 22\, 2026 – Using Artificial Intelligence to Enhance Onboarding\, Engagement\, and Performance Management\nSeptember 29\, 2026 – AI-Driven Employee Relations\, Development\, and Retention: Building a Future-Ready Workforce\nOctober 6\, 2026 – AI-Powered Analytics\, Compliance\, and Employee Assistance: Driving Data-Driven Success\n\nProgram Outline – Using Artificial Intelligence to Support Human Resources \nWho should attend:\nBusiness owners and C-suite leaders\, HR professionals at all levels\, accounting or other office personnel who often serve as the HR lead\, managers and supervisors with hiring responsibilities\, and anyone who wants to learn more about navigating current workforce trends. \nPresenter:\nWilliam J. Rothwell\, PhD. is President of Rothwell & Associates\, Inc.\, Rothwell & Associates\, LLC\, and Rothwell & Associates Korea. He has worked full-time in human resources\, training\, and organizational development in both government and in a multinational company. He has been a consultant for over 50 multinational companies. He has served many manufacturing clients in both the U.S. and abroad. Some of his clients include Ford Motor Company\, General Motors\, Siemens\, Sony\, Phillips\, Erickson\, and HP. Dr. Rothwell is a prolific author and has published more than 130 books and authored numerous training packages\, guides\, technical reports\, and scholarly articles. He is a Distinguished Professor in the Workforce Education and Development program in the College of Education at The Pennsylvania State University. He holds top-level certifications and credentials with National SHRM and ATD.
URL:https://imcpa.com/event/using-ai-in-hr/
LOCATION:Webinar
CATEGORIES:IMC Events,Webinars
ATTACH;FMTTYPE=image/jpeg:https://imcpa.com/wp-content/uploads/2024/10/326645758-job-search-concept-hr-or-hirin-scaled.jpeg
ORGANIZER;CN="IMC":MAILTO:info@imcpa.com
END:VEVENT
END:VCALENDAR